{"text_format":"3","workbook":"xlsx","n_sheets":3,"sheets":["Datenerfassung","Installationsanzeige Gas","Fertigstellungsanzeige"],"not_rendered":{"images":2,"defined_names":2},"read":"whole","date_system":"1900"}

{"sheet":"Datenerfassung","index":0,"n_rows":52,"n_cols":3,"rows_kept":52}
[]
["Allgemeine Datenerfassung"]
[]
[]
[null,"Eingang:"]
[null,"Kunden Nr."]
[null,"IA-Nr."]
[null,"Installateur"]
[null,"Sachbearbeiter"]
[null,"Tel. Nr."]
[null,"Inst. Nr."]
["Kunde"]
[null,"Name, Vorname"]
[null,"Strasse, Nr."]
[null,"PLZ/Ort:"]
["Eigentümer"]
[null,"Name, Vorname, Firma"]
[null,"Strasse, Nr."]
[null,"PLZ/Ort:"]
["Objekt"]
[null,"Strasse, Nr."]
[null,"Ort:"]
[null,"Geschoss, Lage:"]
[null,"Pol. Gemeinde"]
[null,"Parz. Nr."]
[]
[]
[]
[null,"Name Bezugsfeld","Bezugsfeld für Felder (bitte leer lassen)"]
[null,"Neuanlage",false]
[null,"Erweiterung",false]
[null,"Änderung",false]
[null,"Ausserbetriebnahme",false]
[null,"EFH",false]
[null,"MFH",false]
[null,"Scheune",false]
[null,"Fabrik",true]
[null,"Büro",true]
[null,"Zweistoffanlagen Gas/Oel",false]
[null,"Gebläsebrenner",false]
[null,"Atmos.Brenner",false]
[null,"Kondensationsgerät",false]
[null,"direktbeheizt",false]
[null,"indirektbeheizt",false]
[null,"neu",false]
[null,"gebraucht",false]
[null,"Aussenwand",false]
[null,"Magnetventil",false]
[null,"Schema",false]
[null,"Grundrisse",false]
[null,"Apparatedokumentation",false]
[null,"Gewerbe/Industrie",false]

{"sheet":"Installationsanzeige Gas","index":1,"n_rows":58,"n_cols":101,"rows_kept":58,"merged":[[0,0,2,48],[0,49,0,60],[0,62,0,76],[0,78,2,101],[1,49,1,60],[1,62,1,76],[2,49,2,60],[2,62,2,76],[3,0,3,17],[3,18,3,101],[4,0,4,17],[4,18,4,35],[4,36,4,42],[4,43,4,61],[4,62,4,69],[4,70,4,101],[5,0,5,17],[5,18,5,35],[5,36,5,101],[6,0,6,17],[6,18,6,35],[6,36,6,61],[6,62,6,70],[6,71,6,101],[7,0,7,17],[7,18,7,35],[7,36,7,101],[8,0,8,17],[8,18,8,35],[8,36,8,61],[8,62,8,70],[8,71,8,101],[9,0,9,17],[9,18,9,35],[9,36,9,61],[9,62,9,70],[9,71,9,101],[10,0,10,17],[10,18,10,35],[10,36,10,52],[10,53,10,61],[10,62,10,78],[10,79,10,86],[10,87,10,101],[11,0,11,10],[11,11,11,60],[11,61,11,73],[11,74,11,101],[12,0,12,60],[12,61,12,68],[12,69,12,101],[13,0,13,12],[13,13,13,101],[14,0,14,101],[15,0,15,5],[15,6,15,30],[15,31,15,62],[15,63,15,76],[15,77,15,89],[15,90,15,101],[16,0,16,5],[16,6,16,30],[16,31,16,62],[16,63,16,76],[16,77,16,89],[16,90,16,98],[16,99,16,101],[17,0,17,5],[17,6,17,30],[17,31,17,62],[17,63,17,76],[17,77,17,89],[17,90,17,98],[17,99,17,101],[18,0,18,5],[18,6,18,30],[18,31,18,62],[18,63,18,76],[18,77,18,89],[18,90,18,98],[18,99,18,101],[19,0,19,89],[19,90,19,98],[19,99,19,101],[20,0,20,60],[20,61,20,80],[20,81,20,85],[20,86,20,98],[20,99,20,101],[21,0,21,101],[22,0,22,28],[22,29,22,44],[22,45,22,53],[22,54,22,57],[22,58,22,72],[22,73,22,80],[22,81,22,101],[23,0,23,61],[23,62,23,99],[23,100,23,101],[24,0,24,27],[24,28,24,38],[24,39,24,42],[24,43,24,49],[24,50,24,101],[25,0,25,38],[25,39,25,55],[25,56,25,101],[26,0,26,38],[26,39,26,55],[26,56,26,101],[27,0,27,38],[27,39,27,55],[27,56,27,101],[28,0,28,15],[28,16,28,55],[28,56,28,101],[29,0,29,11],[29,12,29,101],[30,0,30,101],[31,0,31,10],[31,11,31,101],[32,0,32,28],[32,29,32,53],[32,54,32,101],[33,0,33,28],[33,29,33,53],[33,54,33,101],[34,0,34,28],[34,29,34,53],[34,54,34,101],[35,0,35,101],[36,0,36,101],[37,0,37,53],[37,54,37,101],[38,0,38,101],[39,0,39,101],[40,0,40,18],[40,19,40,55],[40,56,40,66],[40,67,40,101],[41,0,41,18],[41,19,41,55],[41,56,41,66],[41,67,41,101],[42,0,42,101],[43,0,43,101],[44,0,44,9],[44,10,44,17],[44,18,44,25],[44,26,44,37],[44,38,44,45],[44,46,44,55],[44,56,44,74],[44,75,44,84],[44,85,44,91],[44,92,44,101],[45,0,45,10],[45,11,45,55],[45,56,45,101],[46,56,46,59],[46,60,46,76],[46,77,46,101],[47,56,47,59],[47,60,47,76],[47,77,47,101],[48,0,48,11],[48,12,48,55],[48,56,48,68],[48,69,48,101],[49,0,49,55],[49,56,49,66],[49,67,49,101],[50,0,50,24],[50,25,50,55],[50,56,50,101],[51,0,51,101],[52,0,52,55],[52,56,52,66],[52,67,52,101],[53,0,53,101],[54,0,54,55],[54,56,54,66],[54,67,54,101],[55,0,55,101],[56,0,56,12],[56,13,56,33],[56,34,56,48],[56,49,56,69],[56,70,56,80],[56,81,56,101],[57,0,57,101]]}
["Installationsanzeige Gas",{"$nulls":48},"Eingang",{"$nulls":12},{"$f":"IF(Datenerfassung!C5=0,\" \",Datenerfassung!C5)","v":" "}]
[{"$nulls":49},"ISE Nr.",{"$nulls":12},{"$f":"IF(Datenerfassung!C6=0,\" \",Datenerfassung!C6)","v":" "}]
[{"$nulls":49},"IA-Nr.",{"$nulls":12},{"$f":"IF(Datenerfassung!C7=0,\" \",Datenerfassung!C7)","v":" "}]
["Installateur:",{"$nulls":17},{"$f":"IF(Datenerfassung!C8=0,\" \",Datenerfassung!C8)","v":" "}]
["Sachbearbeiter:",{"$nulls":17},{"$f":"IF(Datenerfassung!C9=0,\" \",Datenerfassung!C9)","v":" "},{"$nulls":17},"Tel. Nr.",{"$nulls":6},{"$f":"IF(Datenerfassung!C10=0,\" \",Datenerfassung!C10)","v":" "},{"$nulls":26},{"$f":"IF(Datenerfassung!C11=0,\" \",Datenerfassung!C11)","v":" "}]
["Kunde",{"$nulls":17},"Name, Vorname",{"$nulls":17},{"$f":"IF(Datenerfassung!C13=0,\" \",Datenerfassung!C13)","v":" "}]
["(genaue Angaben)",{"$nulls":17},"Strasse, Nr.",{"$nulls":17},{"$f":"IF(Datenerfassung!C14=0,\" \",Datenerfassung!C14)","v":" "},{"$nulls":25},"PLZ/Ort:",{"$nulls":8},{"$f":"IF(Datenerfassung!C15=0,\" \",Datenerfassung!C15)","v":" "}]
["Eigentümer",{"$nulls":17},"Name, Vorn., Firma",{"$nulls":17},{"$f":"IF(Datenerfassung!C17=0,\" \",Datenerfassung!C17)","v":" "}]
[{"$nulls":18},"Strasse, Nr.",{"$nulls":17},{"$f":"IF(Datenerfassung!C18=0,\" \",Datenerfassung!C18)","v":" "},{"$nulls":25},"PLZ/Ort:",{"$nulls":8},{"$f":"IF(Datenerfassung!C19=0,\" \",Datenerfassung!C19)","v":" "}]
["Objekt",{"$nulls":17},"Strasse, Nr.",{"$nulls":17},{"$f":"IF(Datenerfassung!C21=0,\" \",Datenerfassung!C21)","v":" "},{"$nulls":25},"Ort:",{"$nulls":8},{"$f":"IF(Datenerfassung!C22=0,\" \",Datenerfassung!C22)","v":" "}]
[{"$nulls":18},"Geschoss, Lage:",{"$nulls":17},{"$f":"IF(Datenerfassung!C23=0,\" \",Datenerfassung!C23)","v":" "},{"$nulls":16},"Pol.Gem.",{"$nulls":8},{"$f":"IF(Datenerfassung!C24=0,\" \",Datenerfassung!C24)","v":" "},{"$nulls":16},"Parz.Nr.",{"$nulls":7},{"$f":"IF(Datenerfassung!C25=0,\" \",Datenerfassung!C25)","v":" "}]
["Installation",{"$nulls":60},"Gebäudeart"]
[]
["Erdgasheizung"]
[]
["Anz.",{"$nulls":5},"Apparate-Art",{"$nulls":24},"Fabrikat/Typ/Brenner",{"$nulls":31},"Standort",{"$nulls":13},"SVGW Zulassungsnr.",{"$nulls":12},"Leistung total"]
[{"$nulls":99},"kW"]
[{"$nulls":99},"kW"]
[{"$nulls":99},"kW"]
["Bestehende Apparate",{"$nulls":98},"kW"]
["Total Anschlusswert",{"$nulls":60},{"$f":"IF(CI21=\" \",\"\",CI21/9.1)","v":""},{"$nulls":19},"m3/h",{"$nulls":4},{"$f":"IF(SUM(CI17:CU20)=0,\" \",SUM(CI17:CU20))","v":" "},{"$nulls":12},"kW"]
[]
["Erdgasleitung/Heiz-/Technikraum",{"$nulls":28},"Heizraumgrösse",{"$nulls":24},"m3",{"$nulls":3},"Frischluftöffnung",{"$nulls":22},"cm2"]
[{"$nulls":100},"m2"]
["Kamin/Abgasleitungdurchmesser",{"$nulls":38},"mm",{"$nulls":3},"Bauart"]
["Am gleichen Kamin angeschlossene Apparate",{"$nulls":55},"Die Leitungsdimensionierung ist gemäss den Gasleit-"]
["Dimension der Erdgasleitung vor dem Zähler",{"$nulls":55},"sätzen G1 auszuführen"]
["Dimension der Erdgasleitung nach dem Zähler",{"$nulls":55},"Heizung ab 70kW gelten Regelwerk G1"]
["Erdgaszählerstandort",{"$nulls":55},"Heizwert für Berechnung:HuB=9.1kWh/m3"]
["Bemerkungen"]
[]
["Beilagen"]
["Beginn der Installationsarbeiten"]
["Zählermontage kann erfolgen am"]
["Voraussichtliche Fertigstellung"]
[]
["Installationsfirma"]
["Der Antragsteller anerkennt hiermit das Reglment der Gasversorgung"]
["über die Abgabe von Gasenergie sowie die Knozessionsbedingungen."]
[]
[{"$nulls":56},"Datum"]
["Firmenstempel",{"$nulls":55},"Unterschrift"]
[]
["Erdgasversorgung (durch Versorger ausfüllen)"]
["Netzdruck",{"$nulls":17},"mbar",{"$nulls":7},"Anlagedruck",{"$nulls":19},"mbar",{"$nulls":9},"Hausanschlussleitung"]
["Druckregler",{"$nulls":55},"Erdgaszähler"]
["Vereinbarung",{"$nulls":55},"Typ"]
["Tarif",{"$nulls":55},"Nr."]
["Bemerkungen",{"$nulls":55},"montiert Datum"]
[]
["Ausführungs-Bewilligung",{"$nulls":55},"Energie- und Erdgasversorgung"]
["Die Anlage kann unter Berücksichtiung nachstehender "]
["Vorschriften erstellt werden: Gasleitsätze SVGW/Feuerschutz",{"$nulls":55},"Datum"]
[]
["EnV/LRV/Werkvorschriften",{"$nulls":55},"Unterschrift"]
[]
["Eingang/Datum",{"$nulls":33},"Sachbearbeiter",{"$nulls":35},"Druckprobe"]
["IBC Energie Wasser Chur, Felsenaustrasse 29, 7000 Chur, Tel. 081 254 48 00, E-Mail installation-gww@ibc-chur.ch"]

{"sheet":"Fertigstellungsanzeige","index":2,"n_rows":56,"n_cols":101,"rows_kept":56,"merged":[[0,0,2,48],[0,49,0,60],[0,62,0,76],[0,78,2,101],[1,49,1,60],[1,62,1,76],[2,49,2,60],[2,62,2,76],[3,0,3,17],[3,18,3,101],[4,0,4,17],[4,18,4,35],[4,36,4,42],[4,43,4,61],[4,62,4,69],[4,70,4,101],[5,0,5,17],[5,18,5,35],[5,36,5,101],[6,0,6,17],[6,18,6,35],[6,36,6,61],[6,62,6,70],[6,71,6,101],[7,0,7,17],[7,18,7,35],[7,36,7,101],[8,0,8,17],[8,18,8,35],[8,36,8,61],[8,62,8,70],[8,71,8,101],[9,0,9,17],[9,18,9,35],[9,36,9,61],[9,62,9,70],[9,71,9,101],[10,0,10,17],[10,18,10,35],[10,36,10,52],[10,53,10,61],[10,62,10,78],[10,79,10,86],[10,87,10,101],[11,0,11,10],[11,11,11,60],[11,61,11,73],[11,74,11,101],[12,0,12,60],[12,61,12,68],[12,69,12,101],[13,0,13,12],[13,13,13,101],[14,0,14,101],[15,0,15,5],[15,6,15,30],[15,31,15,62],[15,63,15,76],[15,77,15,89],[15,90,15,101],[16,0,16,5],[16,6,16,30],[16,31,16,62],[16,63,16,76],[16,77,16,89],[16,90,16,98],[16,99,16,101],[17,0,17,5],[17,6,17,30],[17,31,17,62],[17,63,17,76],[17,77,17,89],[17,90,17,98],[17,99,17,101],[18,0,18,5],[18,6,18,30],[18,31,18,62],[18,63,18,76],[18,77,18,89],[18,90,18,98],[18,99,18,101],[19,0,19,89],[19,90,19,98],[19,99,19,101],[20,0,20,60],[20,61,20,80],[20,81,20,85],[20,86,20,98],[20,99,20,101],[21,0,21,101],[22,0,22,28],[22,29,22,44],[22,45,22,53],[22,54,22,57],[22,58,22,72],[22,73,22,80],[22,81,22,101],[23,0,23,61],[23,62,23,99],[23,100,23,101],[24,0,24,27],[24,28,24,38],[24,39,24,42],[24,43,24,49],[24,50,24,101],[25,0,25,38],[25,39,25,55],[25,56,25,101],[26,0,26,38],[26,39,26,55],[26,56,26,101],[27,0,27,38],[27,39,27,55],[27,56,27,101],[28,0,28,15],[28,16,28,55],[28,56,28,101],[29,0,29,11],[29,12,29,101],[30,0,30,101],[31,0,31,10],[31,11,31,101],[32,0,32,28],[32,29,32,53],[32,54,32,101],[33,0,33,28],[33,29,33,53],[33,54,33,101],[34,0,34,28],[34,29,34,53],[34,54,34,101],[35,0,35,101],[36,0,36,101],[37,0,37,53],[37,54,37,101],[38,0,38,101],[39,0,39,101],[40,0,40,18],[40,19,40,55],[40,56,40,66],[40,67,40,101],[41,0,41,18],[41,19,41,55],[41,56,41,66],[41,67,41,101],[42,0,42,101],[43,0,43,101],[44,0,44,101],[45,0,45,101],[46,0,46,36],[46,37,46,43],[46,44,46,65],[46,67,46,77],[46,78,46,101],[47,0,47,101],[48,0,48,29],[48,30,48,101],[49,0,49,101],[50,0,50,101],[51,0,51,36],[51,37,51,43],[51,44,51,65],[51,67,51,77],[51,78,51,101],[52,0,52,36],[52,37,52,43],[52,44,52,65],[52,67,52,77],[52,78,52,101],[53,0,53,101],[54,0,54,12],[54,13,54,33],[54,34,54,48],[54,49,54,69],[54,70,54,80],[54,81,54,101],[55,0,55,101]]}
["Fertigstellungsanzeige Gas",{"$nulls":48},"Eingang",{"$nulls":12},{"$f":"IF(Datenerfassung!C5=0,\" \",Datenerfassung!C5)","v":" "}]
[{"$nulls":49},"ISE Nr.",{"$nulls":12},{"$f":"IF(Datenerfassung!C6=0,\" \",Datenerfassung!C6)","v":" "}]
[{"$nulls":49},"IA-Nr.",{"$nulls":12},{"$f":"IF(Datenerfassung!C7=0,\" \",Datenerfassung!C7)","v":" "}]
["Installateur:",{"$nulls":17},{"$f":"IF(Datenerfassung!C8=0,\" \",Datenerfassung!C8)","v":" "}]
["Sachbearbeiter:",{"$nulls":17},{"$f":"IF(Datenerfassung!C9=0,\" \",Datenerfassung!C9)","v":" "},{"$nulls":17},"Tel. Nr.",{"$nulls":6},{"$f":"IF(Datenerfassung!C10=0,\" \",Datenerfassung!C10)","v":" "},{"$nulls":26},{"$f":"IF(Datenerfassung!C11=0,\" \",Datenerfassung!C11)","v":" "}]
["Kunde",{"$nulls":17},"Name, Vorname",{"$nulls":17},{"$f":"IF(Datenerfassung!C13=0,\" \",Datenerfassung!C13)","v":" "}]
["(genaue Angaben)",{"$nulls":17},"Strasse, Nr.",{"$nulls":17},{"$f":"IF(Datenerfassung!C14=0,\" \",Datenerfassung!C14)","v":" "},{"$nulls":25},"PLZ/Ort:",{"$nulls":8},{"$f":"IF(Datenerfassung!C15=0,\" \",Datenerfassung!C15)","v":" "}]
["Eigentümer",{"$nulls":17},"Name, Vorn., Firma",{"$nulls":17},{"$f":"IF(Datenerfassung!C17=0,\" \",Datenerfassung!C17)","v":" "}]
[{"$nulls":18},"Strasse, Nr.",{"$nulls":17},{"$f":"IF(Datenerfassung!C18=0,\" \",Datenerfassung!C18)","v":" "},{"$nulls":25},"PLZ/Ort:",{"$nulls":8},{"$f":"IF(Datenerfassung!C19=0,\" \",Datenerfassung!C19)","v":" "}]
["Objekt",{"$nulls":17},"Strasse, Nr.",{"$nulls":17},{"$f":"IF(Datenerfassung!C21=0,\" \",Datenerfassung!C21)","v":" "},{"$nulls":25},"Ort:",{"$nulls":8},{"$f":"IF(Datenerfassung!C22=0,\" \",Datenerfassung!C22)","v":" "}]
[{"$nulls":18},"Geschoss, Lage:",{"$nulls":17},{"$f":"IF(Datenerfassung!C23=0,\" \",Datenerfassung!C23)","v":" "},{"$nulls":16},"Pol.Gem.",{"$nulls":8},{"$f":"IF(Datenerfassung!C24=0,\" \",Datenerfassung!C24)","v":" "},{"$nulls":16},"Parz.Nr.",{"$nulls":7},{"$f":"IF(Datenerfassung!C25=0,\" \",Datenerfassung!C25)","v":" "}]
["Installation",{"$nulls":60},"Gebäudeart"]
[]
["Erdgasheizung"]
[]
["Anz.",{"$nulls":5},"Apparate-Art",{"$nulls":24},"Fabrikat/Typ/Brenner",{"$nulls":31},"Standort",{"$nulls":13},"SVGW Zulassungsnr.",{"$nulls":12},"Leistung total"]
[{"$f":"'Installationsanzeige Gas'!A17:F17","v":0},{"$nulls":5},{"$f":"'Installationsanzeige Gas'!G17:AE17","v":0},{"$nulls":24},{"$f":"'Installationsanzeige Gas'!AF17:BK17","v":0},{"$nulls":31},{"$f":"'Installationsanzeige Gas'!BL17:BY17","v":0},{"$nulls":13},{"$f":"'Installationsanzeige Gas'!BZ17:CL17","v":0},{"$nulls":12},{"$f":"'Installationsanzeige Gas'!CM17:CU17","v":0},{"$nulls":8},"kW"]
[{"$f":"'Installationsanzeige Gas'!A18:F18","v":0},{"$nulls":5},{"$f":"'Installationsanzeige Gas'!G18:AE18","v":0},{"$nulls":24},{"$f":"'Installationsanzeige Gas'!AF18:BK18","v":0},{"$nulls":31},{"$f":"'Installationsanzeige Gas'!BL18:BY18","v":0},{"$nulls":13},{"$f":"'Installationsanzeige Gas'!BZ18:CL18","v":0},{"$nulls":12},{"$f":"'Installationsanzeige Gas'!CM18:CU18","v":0},{"$nulls":8},"kW"]
[{"$f":"'Installationsanzeige Gas'!A19:F19","v":0},{"$nulls":5},{"$f":"'Installationsanzeige Gas'!G19:AE19","v":0},{"$nulls":24},{"$f":"'Installationsanzeige Gas'!AF19:BK19","v":0},{"$nulls":31},{"$f":"'Installationsanzeige Gas'!BL19:BY19","v":0},{"$nulls":13},{"$f":"'Installationsanzeige Gas'!BZ19:CL19","v":0},{"$nulls":12},{"$f":"'Installationsanzeige Gas'!CM19:CU19","v":0},{"$nulls":8},"kW"]
["Bestehende Apparate",{"$nulls":89},{"$f":"'Installationsanzeige Gas'!CM20:CU20","v":0},{"$nulls":8},"kW"]
["Total Anschlusswert",{"$nulls":60},{"$f":"IF(CI21=\" \",\"\",CI21/9.1)","v":""},{"$nulls":19},"m3/h",{"$nulls":4},{"$f":"IF(SUM(CI17:CU20)=0,\" \",SUM(CI17:CU20))","v":" "},{"$nulls":12},"kW"]
[]
["Erdgasleitung/Heiz-/Technikraum",{"$nulls":28},"Heizraumgrösse",{"$nulls":15},{"$f":"'Installationsanzeige Gas'!AT23:BB23","v":0},{"$nulls":8},"m3",{"$nulls":3},"Frischluftöffnung",{"$nulls":14},{"$f":"'Installationsanzeige Gas'!BV23:CC23","v":0},{"$nulls":7},"cm2"]
[{"$nulls":62},{"$f":"'Installationsanzeige Gas'!BK24:CV24","v":0},{"$nulls":37},"m2"]
["Kamin/Abgasleitungdurchmesser",{"$nulls":27},{"$f":"'Installationsanzeige Gas'!AC25:AM25","v":0},{"$nulls":10},"mm",{"$nulls":3},"Bauart",{"$nulls":6},{"$f":"'Installationsanzeige Gas'!AY25:CX25","v":0}]
["Am gleichen Kamin angeschlossene Apparate",{"$nulls":38},{"$f":"'Installationsanzeige Gas'!AN26:BD26","v":0},{"$nulls":16},"Die Leitungsdimensionierung ist gemäss den Gasleit-"]
["Dimension der Erdgasleitung vor dem Zähler",{"$nulls":38},{"$f":"'Installationsanzeige Gas'!AN27:BD27","v":0},{"$nulls":16},"sätzen G1 auszuführen"]
["Dimension der Erdgasleitung nach dem Zähler",{"$nulls":38},{"$f":"'Installationsanzeige Gas'!AN28:BD28","v":0},{"$nulls":16},"Heizung ab 70kW gelten Regelwerk G1"]
["Erdgaszählerstandort",{"$nulls":15},{"$f":"'Installationsanzeige Gas'!Q29:BD29","v":0},{"$nulls":39},"Heizwert für Berechnung:HuB=9.1kWh/m3"]
["Bemerkungen",{"$nulls":11},{"$f":"'Installationsanzeige Gas'!M30:CX30","v":0}]
[]
["Beilagen"]
["Beginn der Installationsarbeiten",{"$nulls":28},{"$f":"'Installationsanzeige Gas'!AD33:BB33","v":"00:00:00"}]
["Zählermontage kann erfolgen am",{"$nulls":28},{"$f":"'Installationsanzeige Gas'!AD34:BB34","v":"00:00:00"}]
["Voraussichtliche Fertigstellung",{"$nulls":28},{"$f":"'Installationsanzeige Gas'!AD35:BB35","v":"00:00:00"}]
[]
["Installationsfirma"]
["Der Antragsteller anerkennt hiermit das Reglment der Gasversorgung"]
["über die Abgabe von Gasenergie sowie die Knozessionsbedingungen."]
[]
[{"$nulls":56},"Datum"]
["Firmenstempel",{"$nulls":55},"Unterschrift"]
[]
["Fertigstellungsrückmeldung (durch Versorger ausfüllen)"]
["Die Installation ist erstellt und wird zur Abnahmekontrolle angemeldet."]
[]
["Die Abnahme kann erfolgen am",{"$nulls":36},"Datum",{"$nulls":29},"Unterschrift"]
[]
["Bemerkungen zur Abnahmekontrolle"]
[]
[]
["Zählermontage",{"$nulls":36},"Datum",{"$nulls":29},"Monteur"]
["Schlusskontrolle",{"$nulls":36},"Datum",{"$nulls":29},"Kontrolleur"]
[]
["Eingang/Datum",{"$nulls":33},"Sachbearbeiter",{"$nulls":35},"Druckprobe"]
["IBC Energie Wasser Chur, Felsenaustrasse 29, 7000 Chur, Tel. 081 254 48 00, E-Mail installation-gww@ibc-chur.ch"]