{"text_format":"3","workbook":"xlsx","n_sheets":3,"sheets":[" Datenerfassung","Installationsanzeige Wasser","Fertigstellungsanzeige"],"not_rendered":{"images":1,"defined_names":2},"read":"whole","date_system":"1900"}

{"sheet":" Datenerfassung","index":0,"n_rows":51,"n_cols":3,"rows_kept":51}
[]
["Allgemeine Datenerfassung"]
[]
[]
[null,"Eingang:"]
[null,"Kunden Nr."]
[null,"IA-Nr."]
[null,"Installateur"]
[null,"Sachbearbeiter"]
[null,"Tel. Nr."]
[null,"Inst. Nr."]
["Bezüger"]
[null,"Name, Vorname"]
[null,"Strasse, Nr."]
[null,"PLZ/Ort:"]
["Eigentümer"]
[null,"Name, Vorname, Firma"]
[null,"Strasse, Nr."]
[null,"PLZ/Ort:"]
["Objekt"]
[null,"Strasse, Nr."]
[null,"Ort:"]
[null,"Geschoss, Lage:"]
[null,"Pol. Gemeinde"]
[null,"Parz. Nr."]
{"$rows_empty":7}
[null,"Name Bezugsfeld","Bezugsfeld für Felder (bitte leer lassen)"]
[null,"Neuanlage",false]
[null,"Erweiterung",false]
[null,"Änderung",false]
[null,"Temporär",true]
[null,"Bauanschluss",false]
[null,"Ausserbetriebnahme",false]
[null,"Scheune",false]
[null,"Fabrik",false]
[null,"Büro",false]
[null,"Ja",false]
[null,"Nein",false]
[null,"Ja",false]
[null,"Nein",false]
[null,null,false]
[null,null,false]
[null,"Schema",false]
[null,"Grundrisse",false]
[null,"Apparatedokumentation",false]

{"sheet":"Installationsanzeige Wasser","index":1,"n_rows":59,"n_cols":99,"rows_kept":59,"merged":[[0,0,2,50],[0,51,0,62],[0,64,0,78],[1,51,1,62],[1,64,1,78],[2,51,2,62],[2,64,2,78],[3,0,3,17],[3,18,3,101],[4,0,4,17],[4,18,4,35],[4,36,4,42],[4,43,4,61],[4,62,4,69],[4,70,4,101],[5,0,5,17],[5,18,5,35],[5,36,5,101],[6,0,6,17],[6,18,6,35],[6,36,6,61],[6,62,6,70],[6,71,6,101],[7,0,7,17],[7,18,7,35],[7,36,7,101],[8,0,8,17],[8,18,8,35],[8,36,8,61],[8,62,8,70],[8,71,8,101],[9,0,9,17],[9,18,9,35],[9,36,9,61],[9,62,9,70],[9,71,9,101],[10,0,10,17],[10,18,10,35],[10,36,10,52],[10,53,10,61],[10,62,10,78],[10,79,10,86],[10,87,10,101],[11,0,11,10],[11,11,11,60],[11,74,11,101],[12,0,12,60],[12,63,12,67],[12,69,12,101],[13,0,13,60],[13,63,13,67],[13,69,13,101],[14,0,14,17],[14,18,14,19],[14,20,14,27],[14,28,14,33],[14,34,14,39],[14,40,14,42],[14,43,14,48],[14,49,14,54],[14,55,14,62],[14,63,14,68],[14,69,14,72],[14,73,14,78],[14,79,14,82],[14,83,14,97],[14,98,14,100],[16,0,16,4],[16,5,16,33],[16,34,16,51],[16,52,16,69],[16,70,16,86],[16,87,16,101],[17,0,17,4],[17,5,17,33],[17,34,17,51],[17,52,17,69],[17,70,17,86],[17,87,17,96],[17,97,17,101],[18,0,18,4],[18,5,18,33],[18,34,18,51],[18,52,18,69],[18,70,18,86],[18,87,18,96],[18,97,18,101],[19,0,19,101],[20,0,20,4],[20,5,20,33],[20,34,20,51],[20,52,20,86],[20,87,20,101],[21,0,21,4],[21,5,21,33],[21,34,21,51],[21,52,21,86],[21,87,21,96],[21,97,21,101],[22,87,22,96],[22,97,22,101],[23,0,23,4],[23,5,23,33],[23,34,23,51],[23,52,23,86],[23,87,23,101],[24,0,24,4],[24,5,24,33],[24,34,24,51],[24,52,24,86],[24,87,24,96],[24,97,24,101],[25,0,25,101],[26,0,26,86],[26,87,26,96],[26,97,26,101],[27,0,27,57],[29,0,29,10],[29,11,29,101],[30,0,30,28],[30,29,30,53],[30,54,30,101],[31,0,31,28],[31,29,31,53],[31,54,31,101],[32,0,32,28],[32,29,32,53],[32,54,32,101],[33,0,33,101],[34,0,34,101],[35,0,35,53],[35,54,35,101],[36,0,36,101],[37,0,37,101],[38,0,38,18],[38,19,38,55],[38,56,38,66],[38,67,38,101],[39,0,39,18],[39,19,39,55],[39,56,39,66],[39,67,39,101],[40,0,40,101],[41,0,41,50],[41,51,41,61],[41,62,41,76],[41,77,41,82],[41,83,41,101],[42,23,42,31],[42,40,42,48],[42,51,42,101],[43,23,43,31],[43,33,43,39],[43,40,43,48],[43,51,43,101],[44,0,44,49],[44,51,44,55],[44,56,44,76],[44,77,44,101],[45,0,45,48],[45,51,45,55],[45,56,45,76],[45,78,45,85],[45,86,45,101],[46,0,46,4],[46,5,46,48],[46,51,46,76],[46,78,46,85],[46,86,46,101],[47,0,47,10],[47,57,47,76],[47,78,47,85],[47,86,47,101],[48,0,48,48],[48,51,48,101],[49,0,49,50],[49,51,49,101],[50,0,50,101],[51,0,51,101],[52,0,52,101],[53,0,53,50],[53,51,53,62],[53,63,53,91],[53,92,53,101],[54,0,54,101],[55,0,55,50],[55,51,55,62],[55,63,55,91],[55,92,55,101],[56,0,56,101],[57,0,57,13],[57,14,57,33],[57,34,57,48],[57,49,57,67],[57,68,57,79],[57,80,57,101],[58,0,58,101],[59,0,59,101]]}
["Installationsanzeige Wasser",{"$nulls":50},"Eingang",{"$nulls":12},{"$f":"IF(' Datenerfassung'!C5=0,\" \",' Datenerfassung'!C5)","v":" "}]
[{"$nulls":51},"ISE Nr.",{"$nulls":12},{"$f":"IF(' Datenerfassung'!C6=0,\" \",' Datenerfassung'!C6)","v":" "}]
[{"$nulls":51},"IA-Nr.",{"$nulls":12},{"$f":"IF(' Datenerfassung'!C7=0,\" \",' Datenerfassung'!C7)","v":" "}]
["Installateur:",{"$nulls":17},{"$f":"IF(' Datenerfassung'!C8=0,\" \",' Datenerfassung'!C8)","v":" "}]
["Sachbearbeiter:",{"$nulls":17},{"$f":"IF(' Datenerfassung'!C9=0,\" \",' Datenerfassung'!C9)","v":" "},{"$nulls":17},"Tel. Nr.",{"$nulls":6},{"$f":"IF(' Datenerfassung'!C10=0,\" \",' Datenerfassung'!C10)","v":" "},{"$nulls":18},"Inst. Nr.",{"$nulls":7},{"$f":"IF(' Datenerfassung'!C11=0,\" \",' Datenerfassung'!C11)","v":" "}]
["Bezüger",{"$nulls":17},"Name, Vorname",{"$nulls":17},{"$f":"IF(' Datenerfassung'!C13=0,\" \",' Datenerfassung'!C13)","v":" "}]
["(genaue Angaben)",{"$nulls":17},"Strasse, Nr.",{"$nulls":17},{"$f":"IF(' Datenerfassung'!C14=0,\" \",' Datenerfassung'!C14)","v":" "},{"$nulls":25},"PLZ/Ort:",{"$nulls":8},{"$f":"IF(' Datenerfassung'!C15=0,\" \",' Datenerfassung'!C15)","v":" "}]
["Eigentümer",{"$nulls":17},"Name, Vorn., Firma",{"$nulls":17},{"$f":"IF(' Datenerfassung'!C17=0,\" \",' Datenerfassung'!C17)","v":" "}]
[{"$nulls":18},"Strasse, Nr.",{"$nulls":17},{"$f":"IF(' Datenerfassung'!C18=0,\" \",' Datenerfassung'!C18)","v":" "},{"$nulls":25},"PLZ/Ort:",{"$nulls":8},{"$f":"IF(' Datenerfassung'!C19=0,\" \",' Datenerfassung'!C19)","v":" "}]
["Objekt",{"$nulls":17},"Strasse, Nr.",{"$nulls":17},{"$f":"IF(' Datenerfassung'!C21=0,\" \",' Datenerfassung'!C21)","v":" "},{"$nulls":25},"Ort:",{"$nulls":8},{"$f":"IF(' Datenerfassung'!C22=0,\" \",' Datenerfassung'!C22)","v":" "}]
[{"$nulls":18},"Geschoss, Lage:",{"$nulls":17},{"$f":"IF(' Datenerfassung'!C23=0,\" \",' Datenerfassung'!C23)","v":" "},{"$nulls":16},"Pol.Gem.",{"$nulls":8},{"$f":"IF(' Datenerfassung'!C24=0,\" \",' Datenerfassung'!C24)","v":" "},{"$nulls":16},"Parz.Nr.",{"$nulls":7},{"$f":"IF(' Datenerfassung'!C25=0,\" \",' Datenerfassung'!C25)","v":" "}]
["Installation",{"$nulls":62},"Gebäudeart"]
[{"$nulls":61},5]
[{"$nulls":61},4]
["Belastungswerte (LU): ",{"$nulls":19},"bestehend",{"$nulls":7},0,{"$nulls":5},"LU",{"$nulls":5},"neu",null,null,0,{"$nulls":5},"LU",{"$nulls":5},"Total",{"$nulls":7},{"$f":"AR15+AC15","v":0},{"$nulls":5},"LU",{"$nulls":3},{"$f":"SUM(BL15*0.1)","v":0},{"$nulls":5},"Total",{"$nulls":3},{"$f":"IF(BV15<=15,BV15^0.257*0.598,IF(BV15>15,BV15^0.353*0.459))","v":{"v":0,"d":"0.00"}},{"$nulls":14},"l/s"]
[]
["Anz.",{"$nulls":4},"Spez. Apparate (Osmose, spez. Küchengeräte etc.)",{"$nulls":28},"Fabrikat, Grösse, Typ",{"$nulls":17},"Standort",{"$nulls":17},"SVGW \nZulassungsnummer",{"$nulls":16},"Anschlusswert"]
[{"$nulls":97},"l/s"]
[{"$nulls":97},"l/s"]
[]
["Anz.",{"$nulls":4},"Notkühlanlagen",{"$nulls":28},"Standort",{"$nulls":17},"Bewilligung vorhanden?",{"$nulls":34},"Leistung"]
[{"$nulls":97},"l/s"]
[]
["Anz.",{"$nulls":4},"Enthärtungsanlage",{"$nulls":28},"Standort",{"$nulls":17},"Wartungsvertrag gem. SVGW Merkblatt W10027 vorhanden?",{"$nulls":34},"Leistung"]
[{"$nulls":97},"l/s"]
[]
["Total",{"$nulls":86},{"$f":"CF15+CJ18+CJ19+CJ22+CJ25","v":{"v":0,"d":"0.00"}},{"$nulls":9},"l/s"]
["Ein Systemtrenner bedarf einer Spezialbewilligung inkl. Wartungsvertrag",{"$nulls":58},"Vorhanden?"]
[]
["Beilagen"]
["Beginn der Installationsarbeiten"]
["Zählermontage kann erfolgen am"]
["Voraussichtliche Fertigstellung"]
[]
["Installationsfirma"]
["Der Antragsteller anerkennt hiermit die technischen Bedingungen"]
["des Wärmeversorgers sowie die Allgemeinen Bedingungen."]
[]
[{"$nulls":56},"Datum"]
["Firmenstempel",{"$nulls":55},"Unterschrift"]
[]
["Wasserversorgung (durch Versorger auszufüllen)",{"$nulls":50},"erfasst am:",{"$nulls":25},"Vis.:"]
[{"$nulls":23},"extern",{"$nulls":16},"intern"]
["Hausanschlussleitung Dim.",{"$nulls":50},"Wasserzähler"]
[{"$nulls":51},"Typ:"]
["Fernzählung",{"$nulls":50},"Nr.:",{"$nulls":26},"Grund:"]
["Tarif:",{"$nulls":50},"montiert",{"$nulls":26},"Standort:"]
["Bemerkungen:",{"$nulls":50},"Datum:",{"$nulls":26},"Monteur:"]
[]
["Ausführungs-Bewilligung",{"$nulls":50},"Energie- und Wasserversorgung"]
[]
["Die Anlage kann unter Berücksichtigung nachstehender"]
["Vorschriften erstellt werden:"]
[{"$nulls":51},"Datum:"]
[" - Wasserleitsätze SVGW"]
[" - Werkvorschriften IBC",{"$nulls":50},"Unterschrift:"]
[]
["Eingang/Datum:",{"$nulls":33},"Sachbearbeiter:",{"$nulls":33},"Druckprobe:"]
["IBC Energie Wasser Chur, Felsenaustrasse 29, 7000 Chur,  Tel. 081 254 48 00,  Fax 081 254 58 80,  E-Mail installation-gww@ibc-chur.ch"]

{"sheet":"Fertigstellungsanzeige","index":2,"n_rows":57,"n_cols":99,"rows_kept":57,"merged":[[0,0,2,50],[0,51,0,62],[0,64,0,78],[1,51,1,62],[1,64,1,78],[2,51,2,62],[2,64,2,78],[3,0,3,17],[3,18,3,101],[4,0,4,17],[4,18,4,35],[4,36,4,42],[4,43,4,61],[4,62,4,69],[4,70,4,101],[5,0,5,17],[5,18,5,35],[5,36,5,101],[6,0,6,17],[6,18,6,35],[6,36,6,61],[6,62,6,70],[6,71,6,101],[7,0,7,17],[7,18,7,35],[7,36,7,101],[8,0,8,17],[8,18,8,35],[8,36,8,61],[8,62,8,70],[8,71,8,101],[9,0,9,17],[9,18,9,35],[9,36,9,61],[9,62,9,70],[9,71,9,101],[10,0,10,17],[10,18,10,35],[10,36,10,52],[10,53,10,61],[10,62,10,78],[10,79,10,86],[10,87,10,101],[11,0,11,10],[11,11,11,60],[11,74,11,101],[12,0,12,60],[12,63,12,67],[12,69,12,101],[13,0,13,60],[13,63,13,67],[13,69,13,101],[14,0,14,17],[14,18,14,19],[14,20,14,27],[14,28,14,33],[14,34,14,39],[14,40,14,42],[14,43,14,48],[14,49,14,54],[14,55,14,62],[14,63,14,68],[14,69,14,72],[14,73,14,78],[14,79,14,82],[14,83,14,97],[14,98,14,100],[16,0,16,4],[16,5,16,33],[16,34,16,51],[16,52,16,69],[16,70,16,86],[16,87,16,101],[17,0,17,4],[17,5,17,33],[17,34,17,51],[17,52,17,69],[17,70,17,86],[17,87,17,96],[17,97,17,101],[18,0,18,4],[18,5,18,33],[18,34,18,51],[18,52,18,69],[18,70,18,86],[18,87,18,96],[18,97,18,101],[20,0,20,4],[20,5,20,33],[20,34,20,51],[20,52,20,86],[20,87,20,101],[21,0,21,4],[21,5,21,33],[21,34,21,51],[21,52,21,86],[21,87,21,96],[21,97,21,101],[22,87,22,96],[22,97,22,101],[23,0,23,4],[23,5,23,33],[23,34,23,51],[23,52,23,86],[23,87,23,101],[24,0,24,4],[24,5,24,33],[24,34,24,51],[24,52,24,86],[24,87,24,96],[24,97,24,101],[25,0,25,101],[26,0,26,86],[26,87,26,96],[26,97,26,101],[27,0,27,57],[29,0,29,10],[29,11,29,101],[30,0,30,28],[30,29,30,53],[30,54,30,101],[31,0,31,28],[31,29,31,53],[31,54,31,101],[32,0,32,28],[32,29,32,53],[32,54,32,101],[33,0,33,101],[34,0,34,101],[35,0,35,53],[35,54,35,101],[36,0,36,101],[37,0,37,101],[38,0,38,18],[38,19,38,55],[38,56,38,66],[38,67,38,101],[39,0,39,18],[39,19,39,55],[39,56,39,66],[39,67,39,101],[41,0,41,101],[42,0,42,101],[43,0,43,47],[43,48,43,101],[44,0,44,101],[45,0,45,47],[45,48,45,55],[45,56,45,101],[46,0,46,101],[47,0,47,47],[47,48,47,60],[47,61,47,101],[48,0,48,101],[49,0,49,101],[50,0,50,101],[51,0,51,22],[51,23,51,30],[51,31,51,47],[51,48,51,59],[51,60,51,101],[52,0,52,101],[53,0,53,22],[53,23,53,30],[53,31,53,47],[53,48,53,59],[53,60,53,101],[54,0,54,101],[55,0,55,13],[55,14,55,33],[55,34,55,48],[55,49,55,67],[55,68,55,79],[55,80,55,101],[56,0,56,101],[57,0,57,101]]}
["Fertigstellungsanzeige Wasser",{"$nulls":50},"Eingang",{"$nulls":12},{"$f":"IF(' Datenerfassung'!C5=0,\" \",' Datenerfassung'!C5)","v":" "}]
[{"$nulls":51},"ISE Nr.",{"$nulls":12},{"$f":"IF(' Datenerfassung'!C6=0,\" \",' Datenerfassung'!C6)","v":" "}]
[{"$nulls":51},"IA-Nr.",{"$nulls":12},{"$f":"IF(' Datenerfassung'!C7=0,\" \",' Datenerfassung'!C7)","v":" "}]
["Installateur:",{"$nulls":17},{"$f":"IF(' Datenerfassung'!C8=0,\" \",' Datenerfassung'!C8)","v":" "}]
["Sachbearbeiter:",{"$nulls":17},{"$f":"IF(' Datenerfassung'!C9=0,\" \",' Datenerfassung'!C9)","v":" "},{"$nulls":17},"Tel. Nr.",{"$nulls":6},{"$f":"IF(' Datenerfassung'!C10=0,\" \",' Datenerfassung'!C10)","v":" "},{"$nulls":18},"Inst. Nr.",{"$nulls":7},{"$f":"IF(' Datenerfassung'!C11=0,\" \",' Datenerfassung'!C11)","v":" "}]
["Bezüger",{"$nulls":17},"Name, Vorname",{"$nulls":17},{"$f":"IF(' Datenerfassung'!C13=0,\" \",' Datenerfassung'!C13)","v":" "}]
["(genaue Angaben)",{"$nulls":17},"Strasse, Nr.",{"$nulls":17},{"$f":"IF(' Datenerfassung'!C14=0,\" \",' Datenerfassung'!C14)","v":" "},{"$nulls":25},"PLZ/Ort:",{"$nulls":8},{"$f":"IF(' Datenerfassung'!C15=0,\" \",' Datenerfassung'!C15)","v":" "}]
["Eigentümer",{"$nulls":17},"Name, Vorn., Firma",{"$nulls":17},{"$f":"IF(' Datenerfassung'!C17=0,\" \",' Datenerfassung'!C17)","v":" "}]
[{"$nulls":18},"Strasse, Nr.",{"$nulls":17},{"$f":"IF(' Datenerfassung'!C18=0,\" \",' Datenerfassung'!C18)","v":" "},{"$nulls":25},"PLZ/Ort:",{"$nulls":8},{"$f":"IF(' Datenerfassung'!C19=0,\" \",' Datenerfassung'!C19)","v":" "}]
["Objekt",{"$nulls":17},"Strasse, Nr.",{"$nulls":17},{"$f":"IF(' Datenerfassung'!C21=0,\" \",' Datenerfassung'!C21)","v":" "},{"$nulls":25},"Ort:",{"$nulls":8},{"$f":"IF(' Datenerfassung'!C22=0,\" \",' Datenerfassung'!C22)","v":" "}]
[{"$nulls":18},"Geschoss, Lage:",{"$nulls":17},{"$f":"IF(' Datenerfassung'!C23=0,\" \",' Datenerfassung'!C23)","v":" "},{"$nulls":16},"Pol.Gem.",{"$nulls":8},{"$f":"IF(' Datenerfassung'!C24=0,\" \",' Datenerfassung'!C24)","v":" "},{"$nulls":16},"Parz.Nr.",{"$nulls":7},{"$f":"IF(' Datenerfassung'!C25=0,\" \",' Datenerfassung'!C25)","v":" "}]
["Installation",{"$nulls":62},"Gebäudeart"]
[{"$nulls":61},{"$f":"IF('Installationsanzeige Wasser'!BJ13:BQ13=0,\" \",'Installationsanzeige Wasser'!BJ13:BQ13)","v":5},null,{"$f":"IF('Installationsanzeige Wasser'!BL13:BP13=0,\" \",'Installationsanzeige Wasser'!BL13:BP13)","v":" "}]
[{"$nulls":61},{"$f":"IF('Installationsanzeige Wasser'!BJ14:BQ14=0,\" \",'Installationsanzeige Wasser'!BJ14:BQ14)","v":4},null,{"$f":"IF('Installationsanzeige Wasser'!BL14:BP14=0,\" \",'Installationsanzeige Wasser'!BL14:BP14)","v":" "}]
["Belastungswerte (LU): ",{"$nulls":19},"bestehend",{"$nulls":7},{"$f":"'Installationsanzeige Wasser'!AC15:AH15","v":0},{"$nulls":5},"LU",{"$nulls":5},"neu",null,null,{"$f":"'Installationsanzeige Wasser'!AR15:AW15","v":0},{"$nulls":5},"LU",{"$nulls":5},"Total",{"$nulls":7},{"$f":"AR15+AC15","v":0},{"$nulls":5},"LU",{"$nulls":3},{"$f":"SUM(BL15*0.1)","v":0},{"$nulls":5},"Total",{"$nulls":3},{"$f":"IF(BV15<=15,BV15^0.257*0.598,IF(BV15>15,BV15^0.353*0.459))","v":{"v":0,"d":"0.00"}},{"$nulls":14},"l/s"]
[]
["Anz.",{"$nulls":4},"Spez. Apparate (Osmose, spez. Küchengeräte etc.)",{"$nulls":28},"Fabrikat, Grösse, Typ",{"$nulls":17},"Standort",{"$nulls":17},"SVGW \nZulassungsnummer",{"$nulls":16},"Anschlusswert"]
[{"$f":"'Installationsanzeige Wasser'!A18:E18","v":0},{"$nulls":33},{"$f":"'Installationsanzeige Wasser'!AI18:AZ18","v":0},{"$nulls":17},{"$f":"'Installationsanzeige Wasser'!BA18:BR18","v":0},{"$nulls":17},{"$f":"'Installationsanzeige Wasser'!BS18:CI18","v":0},{"$nulls":16},{"$f":"'Installationsanzeige Wasser'!CJ18:CS18","v":0},{"$nulls":9},"l/s"]
[{"$f":"'Installationsanzeige Wasser'!A19:E19","v":0},{"$nulls":4},{"$f":"'Installationsanzeige Wasser'!F19:AH19","v":0},{"$nulls":28},{"$f":"'Installationsanzeige Wasser'!AI19:AZ19","v":0},{"$nulls":17},{"$f":"'Installationsanzeige Wasser'!BA19:BR19","v":0},{"$nulls":17},{"$f":"'Installationsanzeige Wasser'!BS19:CI19","v":0},{"$nulls":16},{"$f":"'Installationsanzeige Wasser'!CJ19:CS19","v":0},{"$nulls":9},"l/s"]
[]
["Anz.",{"$nulls":4},"Notkühlanlagen",{"$nulls":28},"Standort",{"$nulls":17},"Bewilligung vorhanden?",{"$nulls":34},"Leistung"]
[{"$f":"'Installationsanzeige Wasser'!A22:E22","v":0},{"$nulls":4},{"$f":"'Installationsanzeige Wasser'!F22:AH22","v":0},{"$nulls":28},{"$f":"'Installationsanzeige Wasser'!AI22:AZ22","v":0},{"$nulls":52},{"$f":"'Installationsanzeige Wasser'!CJ22:CS22","v":0},{"$nulls":9},"l/s"]
[]
["Anz.",{"$nulls":4},"Enthärtungsanlage",{"$nulls":28},"Standort",{"$nulls":17},"Wartungsvertrag gem. SVGW Merkblatt W10027 vorhanden?",{"$nulls":34},"Leistung"]
[{"$f":"'Installationsanzeige Wasser'!A25:E25","v":0},{"$nulls":4},{"$f":"'Installationsanzeige Wasser'!F25:AH25","v":0},{"$nulls":28},{"$f":"'Installationsanzeige Wasser'!AI25:AZ25","v":0},{"$nulls":52},{"$f":"'Installationsanzeige Wasser'!CJ25:CS25","v":0},{"$nulls":9},"l/s"]
[]
["Total",{"$nulls":86},{"$f":"CF15+CJ18+CJ19+CJ22+CJ25","v":{"v":0,"d":"0.00"}},{"$nulls":9},"l/s"]
["Ein Systemtrenner bedarf einer Spezialbewilligung inkl. Wartungsvertrag",{"$nulls":58},"Vorhanden?"]
[]
["Beilagen"]
["Beginn der Installationsarbeiten",{"$nulls":28},{"$f":"'Installationsanzeige Wasser'!$AD$31:$BB$31","v":"00:00:00"}]
["Zählermontage kann erfolgen am",{"$nulls":28},{"$f":"'Installationsanzeige Wasser'!$AD$32:$BB$32","v":"00:00:00"}]
["Voraussichtliche Fertigstellung",{"$nulls":28},{"$f":"'Installationsanzeige Wasser'!$AD$33:$BB$33","v":"00:00:00"}]
[]
["Installationsfirma"]
["Der Antragsteller anerkennt hiermit die technischen Bedingungen"]
["des Wärmeversorgers sowie die Allgemeinen Bedingungen."]
[]
[{"$nulls":56},"Datum"]
["Firmenstempel",{"$nulls":55},"Unterschrift"]
[]
["Fertigstellungsrückmeldung (durch Versorger auszufüllen)"]
[]
["Die Installation ist erstellt und wird zur",{"$nulls":47},"Die Abnahme kann erfolgen am:"]
["Abnahmekontrolle angemeldet."]
[{"$nulls":48},"Datum:"]
[]
[{"$nulls":48},"Unterschrift:"]
["Bemerkungen zur Abnahmekontrolle"]
[]
[]
["Zählermontage",{"$nulls":22},"Datum:",{"$nulls":24},"Monteur:"]
[]
["Schlusskontrolle",{"$nulls":22},"Datum:",{"$nulls":24},"Kontrolleur:"]
[]
["Eingang/Datum:",{"$nulls":33},"Sachbearbeiter:",{"$nulls":33},"Druckprobe:"]
["IBC Energie Wasser Chur, Felsenaustrasse 29, 7000 Chur,  Tel. 081 254 48 00,  Fax 081 254 58 80,  E-Mail installation-gww@ibc-chur.ch"]